BEGIN:VCALENDAR
VERSION:2.0
PRODID:-//Alsace à Cheval - ECPv6.15.11//NONSGML v1.0//EN
CALSCALE:GREGORIAN
METHOD:PUBLISH
X-ORIGINAL-URL:https://alsaceacheval.com
X-WR-CALDESC:Évènements pour Alsace à Cheval
REFRESH-INTERVAL;VALUE=DURATION:PT1H
X-Robots-Tag:noindex
X-PUBLISHED-TTL:PT1H
BEGIN:VTIMEZONE
TZID:Europe/Paris
BEGIN:DAYLIGHT
TZOFFSETFROM:+0100
TZOFFSETTO:+0200
TZNAME:CEST
DTSTART:20250330T010000
END:DAYLIGHT
BEGIN:STANDARD
TZOFFSETFROM:+0200
TZOFFSETTO:+0100
TZNAME:CET
DTSTART:20251026T010000
END:STANDARD
BEGIN:DAYLIGHT
TZOFFSETFROM:+0100
TZOFFSETTO:+0200
TZNAME:CEST
DTSTART:20260329T010000
END:DAYLIGHT
BEGIN:STANDARD
TZOFFSETFROM:+0200
TZOFFSETTO:+0100
TZNAME:CET
DTSTART:20261025T010000
END:STANDARD
BEGIN:DAYLIGHT
TZOFFSETFROM:+0100
TZOFFSETTO:+0200
TZNAME:CEST
DTSTART:20270328T010000
END:DAYLIGHT
BEGIN:STANDARD
TZOFFSETFROM:+0200
TZOFFSETTO:+0100
TZNAME:CET
DTSTART:20271031T010000
END:STANDARD
END:VTIMEZONE
BEGIN:VEVENT
DTSTART;VALUE=DATE:20260222
DTEND;VALUE=DATE:20260223
DTSTAMP:20260425T134441
CREATED:20260127T160941Z
LAST-MODIFIED:20260127T160941Z
UID:8139-1771718400-1771804799@alsaceacheval.com
SUMMARY:Brocante équestre à Marmoutier (67)
DESCRIPTION:
URL:https://alsaceacheval.com/manifestation/brocante-equestre-a-marmoutier-67/
LOCATION:Marmoutier (salle polyvalente)\, rue Albert Schweitzer\, Marmoutier\, 67440\, France
ATTACH;FMTTYPE=image/jpeg:https://alsaceacheval.com/wp-content/uploads/2026/01/brocantroc-2026.jpg
END:VEVENT
END:VCALENDAR